BEGIN:VCALENDAR
VERSION:2.0
PRODID:-//February General Meeting Events Calendar//site.domain//
BEGIN:VEVENT
SUMMARY:February General Meeting
DTSTART;VALUE=DATE-TIME:20170206T073000Z
DTEND;VALUE=DATE-TIME:20170206T093000Z
DTSTAMP;VALUE=DATE-TIME:20170206T093000Z
UID:10.event.events.site_token
LOCATION:Albert Hill Drive\, Melba
END:VEVENT
END:VCALENDAR
