BEGIN:VCALENDAR
VERSION:2.0
PRODID:-//Back to School Welcome BQQ Events Calendar//site.domain//
BEGIN:VEVENT
SUMMARY:Back to School Welcome BQQ
DTSTART;VALUE=DATE-TIME:20170306T063000Z
DTEND;VALUE=DATE-TIME:20170307T073000Z
DTSTAMP;VALUE=DATE-TIME:20170307T073000Z
UID:11.event.events.site_token
LOCATION:Albert Hill Drive\, Melba
END:VEVENT
END:VCALENDAR
