BEGIN:VCALENDAR
VERSION:2.0
PRODID:-//Group PT Classes Events Calendar//site.domain//
BEGIN:VEVENT
SUMMARY:Group PT Classes
DTSTART;VALUE=DATE-TIME:20170227T073000Z
DTEND;VALUE=DATE-TIME:20170227T083000Z
DTSTAMP;VALUE=DATE-TIME:20170227T083000Z
UID:13.event.events.site_token
LOCATION:Albert Hill Drive\, Melba
END:VEVENT
END:VCALENDAR
