BEGIN:VCALENDAR
VERSION:2.0
PRODID:-//Group PT Class Events Calendar//site.domain//
BEGIN:VEVENT
SUMMARY:Group PT Class
DTSTART;VALUE=DATE-TIME:20170306T073000Z
DTEND;VALUE=DATE-TIME:20170306T083000Z
DTSTAMP;VALUE=DATE-TIME:20170306T083000Z
UID:14.event.events.site_token
LOCATION:Albert Hill Drive\, Melba
END:VEVENT
END:VCALENDAR
