BEGIN:VCALENDAR
VERSION:2.0
PRODID:-//Zumba Events Calendar//site.domain//
BEGIN:VEVENT
SUMMARY:Zumba
DTSTART;VALUE=DATE-TIME:20170302T073000Z
DTEND;VALUE=DATE-TIME:20170302T083000Z
DTSTAMP;VALUE=DATE-TIME:20170302T083000Z
UID:15.event.events.site_token
LOCATION:Albert Hill Drive\, Melba
END:VEVENT
END:VCALENDAR
