BEGIN:VCALENDAR
VERSION:2.0
PRODID:-//September General Meeting Events Calendar//site.domain//
BEGIN:VEVENT
SUMMARY:September General Meeting
DTSTART;VALUE=DATE-TIME:20160905T193000Z
DTEND;VALUE=DATE-TIME:20160905T213000Z
DTSTAMP;VALUE=DATE-TIME:20160905T213000Z
UID:3.event.events.site_token
LOCATION:Albert Hill Drive\, Melba
END:VEVENT
END:VCALENDAR
