BEGIN:VCALENDAR
VERSION:2.0
PRODID:-//2016 ACT Election BBQ Events Calendar//site.domain//
BEGIN:VEVENT
SUMMARY:2016 ACT Election BBQ
DTSTART;VALUE=DATE-TIME:20161015T080000Z
DTEND;VALUE=DATE-TIME:20161015T140000Z
DTSTAMP;VALUE=DATE-TIME:20161015T140000Z
UID:6.event.events.site_token
LOCATION:Albert Hill Drive\, Melba
END:VEVENT
END:VCALENDAR
