BEGIN:VCALENDAR
VERSION:2.0
PRODID:-//2016 October General Meeting Events Calendar//site.domain//
BEGIN:VEVENT
SUMMARY:2016 October General Meeting
DTSTART;VALUE=DATE-TIME:20161010T193000Z
DTEND;VALUE=DATE-TIME:20161010T213000Z
DTSTAMP;VALUE=DATE-TIME:20161010T213000Z
UID:7.event.events.site_token
LOCATION:Albert Hill Drive\, Melba
END:VEVENT
END:VCALENDAR
