BEGIN:VCALENDAR
VERSION:2.0
PRODID:-//ACT election Events Calendar//site.domain//
BEGIN:VEVENT
SUMMARY:ACT election
DTSTART;VALUE=DATE-TIME:20161015T080000Z
DTEND;VALUE=DATE-TIME:20161015T160000Z
DTSTAMP;VALUE=DATE-TIME:20161015T160000Z
UID:9.event.events.site_token
LOCATION:Albert Hill Drive\, Melba
END:VEVENT
END:VCALENDAR
